Package: scTGIF Version: 1.24.0 Command: /home/biocbuild/bbs-3.22-bioc/R/bin/R CMD INSTALL scTGIF StartedAt: 2025-11-06 15:30:48 -0500 (Thu, 06 Nov 2025) EndedAt: 2025-11-06 15:31:25 -0500 (Thu, 06 Nov 2025) EllapsedTime: 37.1 seconds RetCode: 0 Status: OK