Package: scRecover Version: 1.25.0 Command: /home/biocbuild/bbs-3.22-bioc/R/bin/R CMD INSTALL scRecover StartedAt: 2025-10-24 15:16:54 -0400 (Fri, 24 Oct 2025) EndedAt: 2025-10-24 15:17:35 -0400 (Fri, 24 Oct 2025) EllapsedTime: 40.5 seconds RetCode: 0 Status: OK