Package: scReClassify Version: 1.16.0 Command: /home/biocbuild/R/R/bin/R CMD INSTALL scReClassify StartedAt: 2025-11-24 22:11:17 -0000 (Mon, 24 Nov 2025) EndedAt: 2025-11-24 22:11:45 -0000 (Mon, 24 Nov 2025) EllapsedTime: 28.4 seconds RetCode: 0 Status: OK