Package: scReClassify Version: 1.16.0 Command: /home/biocbuild/R/R/bin/R CMD build --keep-empty-dirs --no-resave-data scReClassify StartedAt: 2025-11-25 04:55:51 -0000 (Tue, 25 Nov 2025) EndedAt: 2025-11-25 04:59:09 -0000 (Tue, 25 Nov 2025) EllapsedTime: 197.1 seconds RetCode: 0 Status: OK PackageFile: scReClassify_1.16.0.tar.gz PackageFileSize: 2.482 MiB