Package: scReClassify Version: 1.16.0 Command: /Library/Frameworks/R.framework/Resources/bin/R CMD INSTALL scReClassify StartedAt: 2025-11-17 18:55:49 -0500 (Mon, 17 Nov 2025) EndedAt: 2025-11-17 18:56:36 -0500 (Mon, 17 Nov 2025) EllapsedTime: 47.6 seconds RetCode: 0 Status: OK