Package: scReClassify Version: 1.16.0 Command: /Library/Frameworks/R.framework/Resources/bin/R CMD build --keep-empty-dirs --no-resave-data scReClassify StartedAt: 2025-11-18 02:04:57 -0500 (Tue, 18 Nov 2025) EndedAt: 2025-11-18 02:09:50 -0500 (Tue, 18 Nov 2025) EllapsedTime: 293.0 seconds RetCode: 0 Status: OK PackageFile: scReClassify_1.16.0.tar.gz PackageFileSize: 2.468 MiB