Package: scReClassify Version: 1.15.1 Command: /Library/Frameworks/R.framework/Resources/bin/R CMD build --keep-empty-dirs --no-resave-data scReClassify StartedAt: 2025-10-24 18:41:48 -0400 (Fri, 24 Oct 2025) EndedAt: 2025-10-24 18:44:38 -0400 (Fri, 24 Oct 2025) EllapsedTime: 170.0 seconds RetCode: 0 Status: OK PackageFile: scReClassify_1.15.1.tar.gz PackageFileSize: 2.468 MiB