Package: scReClassify Version: 1.15.1 Command: /Library/Frameworks/R.framework/Resources/bin/R CMD INSTALL scReClassify StartedAt: 2025-10-24 15:35:06 -0400 (Fri, 24 Oct 2025) EndedAt: 2025-10-24 15:35:15 -0400 (Fri, 24 Oct 2025) EllapsedTime: 9.2 seconds RetCode: 0 Status: OK