Package: scReClassify Version: 1.16.0 Command: /Library/Frameworks/R.framework/Resources/bin/R CMD INSTALL scReClassify StartedAt: 2025-11-17 18:36:43 -0500 (Mon, 17 Nov 2025) EndedAt: 2025-11-17 18:36:51 -0500 (Mon, 17 Nov 2025) EllapsedTime: 8.1 seconds RetCode: 0 Status: OK