Package: scReClassify Version: 1.16.0 Command: /Library/Frameworks/R.framework/Resources/bin/R CMD build --keep-empty-dirs --no-resave-data scReClassify StartedAt: 2025-11-18 00:44:01 -0500 (Tue, 18 Nov 2025) EndedAt: 2025-11-18 00:45:04 -0500 (Tue, 18 Nov 2025) EllapsedTime: 63.6 seconds RetCode: 0 Status: OK PackageFile: scReClassify_1.16.0.tar.gz PackageFileSize: 2.469 MiB