Package: scReClassify Version: 1.16.0 Maintainer: Taiyun Kim MaintainerEmail: taiyun.kim91 at gmail.com git_url: https://git.bioconductor.org/packages/scReClassify git_branch: RELEASE_3_22 git_last_commit: d6212d3 git_last_commit_date: 2025-10-29 11:12:04 -0400 (Wed, 29 Oct 2025)