Package: scRNAseqApp Version: 1.9.26 Command: /home/biocbuild/bbs-3.22-bioc/R/bin/R CMD INSTALL scRNAseqApp StartedAt: 2025-10-28 15:26:02 -0400 (Tue, 28 Oct 2025) EndedAt: 2025-10-28 15:27:06 -0400 (Tue, 28 Oct 2025) EllapsedTime: 64.0 seconds RetCode: 0 Status: OK