Package: scRNAseqApp Version: 1.9.26 Command: /home/biocbuild/bbs-3.22-bioc/R/bin/R CMD build --keep-empty-dirs --no-resave-data --md5 scRNAseqApp StartedAt: 2025-10-28 19:56:50 -0400 (Tue, 28 Oct 2025) EndedAt: 2025-10-28 19:58:18 -0400 (Tue, 28 Oct 2025) EllapsedTime: 88.0 seconds RetCode: 0 Status: OK PackageFile: scRNAseqApp_1.9.26.tar.gz PackageFileSize: 2.219 MiB