Package: scRNAseqApp Version: 1.10.0 Command: /Library/Frameworks/R.framework/Resources/bin/R CMD INSTALL scRNAseqApp StartedAt: 2025-11-03 15:34:12 -0500 (Mon, 03 Nov 2025) EndedAt: 2025-11-03 15:35:40 -0500 (Mon, 03 Nov 2025) EllapsedTime: 87.7 seconds RetCode: 0 Status: OK