Package: scRNAseqApp Version: 1.10.0 Command: /Library/Frameworks/R.framework/Resources/bin/R CMD build --keep-empty-dirs --no-resave-data scRNAseqApp StartedAt: 2025-11-03 18:43:07 -0500 (Mon, 03 Nov 2025) EndedAt: 2025-11-03 18:44:49 -0500 (Mon, 03 Nov 2025) EllapsedTime: 102.3 seconds RetCode: 0 Status: OK PackageFile: scRNAseqApp_1.10.0.tar.gz PackageFileSize: 2.216 MiB