Package: scQTLtools Version: 1.1.7 Command: /home/biocbuild/bbs-3.22-bioc/R/bin/R CMD INSTALL scQTLtools StartedAt: 2025-10-27 15:56:25 -0400 (Mon, 27 Oct 2025) EndedAt: 2025-10-27 15:57:08 -0400 (Mon, 27 Oct 2025) EllapsedTime: 43.2 seconds RetCode: 0 Status: OK