Package: scPipe Version: 2.9.0 Command: /home/biocbuild/bbs-3.22-bioc/R/bin/R CMD build --keep-empty-dirs --no-resave-data --md5 scPipe StartedAt: 2025-10-24 20:04:17 -0400 (Fri, 24 Oct 2025) EndedAt: 2025-10-24 20:08:50 -0400 (Fri, 24 Oct 2025) EllapsedTime: 273.2 seconds RetCode: 0 Status: OK PackageFile: scPipe_2.9.0.tar.gz PackageFileSize: 12.65 MiB