Package: scPCA Version: 1.24.0 Command: /Library/Frameworks/R.framework/Resources/bin/R CMD INSTALL scPCA StartedAt: 2025-11-06 15:28:45 -0500 (Thu, 06 Nov 2025) EndedAt: 2025-11-06 15:28:56 -0500 (Thu, 06 Nov 2025) EllapsedTime: 10.8 seconds RetCode: 0 Status: OK