Package: scPCA Version: 1.24.0 Command: /Library/Frameworks/R.framework/Resources/bin/R CMD build --keep-empty-dirs --no-resave-data scPCA StartedAt: 2025-11-09 17:42:26 -0500 (Sun, 09 Nov 2025) EndedAt: 2025-11-09 17:44:30 -0500 (Sun, 09 Nov 2025) EllapsedTime: 124.3 seconds RetCode: 0 Status: OK PackageFile: scPCA_1.24.0.tar.gz PackageFileSize: 2.057 MiB