Package: scPCA Version: 1.24.0 Command: rm -rf scPCA.buildbin-libdir && mkdir scPCA.buildbin-libdir && /Users/biocbuild/BBS/utils/build-universal.sh scPCA_1.24.0.tar.gz /Library/Frameworks/R.framework/Resources/bin/R scPCA.buildbin-libdir StartedAt: 2025-11-06 23:21:01 -0500 (Thu, 06 Nov 2025) EndedAt: 2025-11-06 23:21:10 -0500 (Thu, 06 Nov 2025) EllapsedTime: 9.2 seconds RetCode: 0 Status: OK PackageFile: scPCA_1.24.0.tgz PackageFileSize: 2.089 MiB