Package: scPCA Version: 1.24.0 Command: /Library/Frameworks/R.framework/Resources/bin/R CMD INSTALL scPCA StartedAt: 2025-11-20 18:58:32 -0500 (Thu, 20 Nov 2025) EndedAt: 2025-11-20 18:59:03 -0500 (Thu, 20 Nov 2025) EllapsedTime: 31.3 seconds RetCode: 0 Status: OK