Package: scPCA Version: 1.24.0 Command: /Library/Frameworks/R.framework/Resources/bin/R CMD build --keep-empty-dirs --no-resave-data scPCA StartedAt: 2025-11-21 09:37:51 -0500 (Fri, 21 Nov 2025) EndedAt: 2025-11-21 09:43:29 -0500 (Fri, 21 Nov 2025) EllapsedTime: 338.7 seconds RetCode: 0 Status: OK PackageFile: scPCA_1.24.0.tar.gz PackageFileSize: 2.055 MiB