Package: scMultiSim Version: 1.6.0 Command: /Library/Frameworks/R.framework/Resources/bin/R CMD INSTALL scMultiSim StartedAt: 2025-11-06 15:15:13 -0500 (Thu, 06 Nov 2025) EndedAt: 2025-11-06 15:15:24 -0500 (Thu, 06 Nov 2025) EllapsedTime: 11.2 seconds RetCode: 0 Status: OK