Package: scMultiSim Version: 1.6.0 Command: rm -rf scMultiSim.buildbin-libdir && mkdir scMultiSim.buildbin-libdir && /Users/biocbuild/BBS/utils/build-universal.sh scMultiSim_1.6.0.tar.gz /Library/Frameworks/R.framework/Resources/bin/R scMultiSim.buildbin-libdir StartedAt: 2025-11-06 23:20:54 -0500 (Thu, 06 Nov 2025) EndedAt: 2025-11-06 23:21:06 -0500 (Thu, 06 Nov 2025) EllapsedTime: 12.2 seconds RetCode: 0 Status: OK PackageFile: scMultiSim_1.6.0.tgz PackageFileSize: 5.781 MiB