Package: scMET Version: 1.12.0 Command: /home/biocbuild/bbs-3.22-bioc/R/bin/R CMD INSTALL scMET StartedAt: 2025-11-14 15:36:31 -0500 (Fri, 14 Nov 2025) EndedAt: 2025-11-14 15:38:34 -0500 (Fri, 14 Nov 2025) EllapsedTime: 122.9 seconds RetCode: 0 Status: OK