Package: scMET Version: 1.12.0 Command: /home/biocbuild/bbs-3.22-bioc/R/bin/R CMD build --keep-empty-dirs --no-resave-data --md5 scMET StartedAt: 2025-11-14 20:02:54 -0500 (Fri, 14 Nov 2025) EndedAt: 2025-11-14 20:06:15 -0500 (Fri, 14 Nov 2025) EllapsedTime: 201.1 seconds RetCode: 0 Status: OK PackageFile: scMET_1.12.0.tar.gz PackageFileSize: 3.281 MiB