Package: scLANE Version: 0.99.999999 Command: /home/biocbuild/bbs-3.22-bioc/R/bin/R CMD INSTALL scLANE StartedAt: 2025-10-24 15:20:14 -0400 (Fri, 24 Oct 2025) EndedAt: 2025-10-24 15:21:01 -0400 (Fri, 24 Oct 2025) EllapsedTime: 47.1 seconds RetCode: 0 Status: OK