Package: scHiCcompare Version: 1.2.0 Command: /Library/Frameworks/R.framework/Resources/bin/R CMD build --keep-empty-dirs --no-resave-data scHiCcompare StartedAt: 2025-11-03 18:39:19 -0500 (Mon, 03 Nov 2025) EndedAt: 2025-11-03 18:40:54 -0500 (Mon, 03 Nov 2025) EllapsedTime: 95.2 seconds RetCode: 0 Status: OK PackageFile: scHiCcompare_1.2.0.tar.gz PackageFileSize: 1.279 MiB