Package: scHiCcompare Version: 1.2.0 Command: rm -rf scHiCcompare.buildbin-libdir && mkdir scHiCcompare.buildbin-libdir && /Users/biocbuild/BBS/utils/build-universal.sh scHiCcompare_1.2.0.tar.gz /Library/Frameworks/R.framework/Resources/bin/R scHiCcompare.buildbin-libdir StartedAt: 2025-11-02 23:20:35 -0500 (Sun, 02 Nov 2025) EndedAt: 2025-11-02 23:20:48 -0500 (Sun, 02 Nov 2025) EllapsedTime: 13.2 seconds RetCode: 0 Status: OK PackageFile: scHiCcompare_1.2.0.tgz PackageFileSize: 1.274 MiB