Package: scHOT Version: 1.22.0 Command: /Library/Frameworks/R.framework/Resources/bin/R CMD INSTALL scHOT StartedAt: 2025-11-10 15:14:42 -0500 (Mon, 10 Nov 2025) EndedAt: 2025-11-10 15:14:54 -0500 (Mon, 10 Nov 2025) EllapsedTime: 11.5 seconds RetCode: 0 Status: OK