Package: scHOT Version: 1.22.0 Command: /Library/Frameworks/R.framework/Resources/bin/R CMD build --keep-empty-dirs --no-resave-data scHOT StartedAt: 2025-11-10 17:39:31 -0500 (Mon, 10 Nov 2025) EndedAt: 2025-11-10 17:40:15 -0500 (Mon, 10 Nov 2025) EllapsedTime: 44.5 seconds RetCode: 0 Status: OK PackageFile: scHOT_1.22.0.tar.gz PackageFileSize: 2.315 MiB