Package: scGraphVerse Version: 0.99.21 Command: /home/biocbuild/bbs-3.22-bioc/R/bin/R CMD INSTALL scGraphVerse StartedAt: 2025-10-27 15:23:35 -0400 (Mon, 27 Oct 2025) EndedAt: 2025-10-27 15:24:04 -0400 (Mon, 27 Oct 2025) EllapsedTime: 29.3 seconds RetCode: 0 Status: OK