Package: scGraphVerse Version: 1.0.0 Command: /Library/Frameworks/R.framework/Resources/bin/R CMD build --keep-empty-dirs --no-resave-data scGraphVerse StartedAt: 2025-11-10 17:39:21 -0500 (Mon, 10 Nov 2025) EndedAt: 2025-11-10 17:42:41 -0500 (Mon, 10 Nov 2025) EllapsedTime: 200.2 seconds RetCode: 0 Status: OK PackageFile: scGraphVerse_1.0.0.tar.gz PackageFileSize: 3.7 MiB