Package: scFeatures Version: 1.10.0 Command: /Library/Frameworks/R.framework/Resources/bin/R CMD INSTALL scFeatures StartedAt: 2025-11-03 15:56:20 -0500 (Mon, 03 Nov 2025) EndedAt: 2025-11-03 15:57:30 -0500 (Mon, 03 Nov 2025) EllapsedTime: 70.5 seconds RetCode: 0 Status: OK