Package: scFeatures Version: 1.10.0 Command: /Library/Frameworks/R.framework/Resources/bin/R CMD build --keep-empty-dirs --no-resave-data scFeatures StartedAt: 2025-11-03 18:38:27 -0500 (Mon, 03 Nov 2025) EndedAt: 2025-11-03 18:41:30 -0500 (Mon, 03 Nov 2025) EllapsedTime: 183.0 seconds RetCode: 0 Status: OK PackageFile: scFeatures_1.10.0.tar.gz PackageFileSize: 2.928 MiB