Package: scFeatures Version: 1.10.0 Command: rm -rf scFeatures.buildbin-libdir && mkdir scFeatures.buildbin-libdir && /Users/biocbuild/BBS/utils/build-universal.sh scFeatures_1.10.0.tar.gz /Library/Frameworks/R.framework/Resources/bin/R scFeatures.buildbin-libdir StartedAt: 2025-11-04 02:02:36 -0500 (Tue, 04 Nov 2025) EndedAt: 2025-11-04 02:04:28 -0500 (Tue, 04 Nov 2025) EllapsedTime: 111.9 seconds RetCode: 0 Status: OK PackageFile: scFeatures_1.10.0.tgz PackageFileSize: 3.067 MiB