Package: scFeatures Version: 1.10.0 Command: /Library/Frameworks/R.framework/Resources/bin/R CMD INSTALL scFeatures StartedAt: 2025-10-30 15:32:31 -0400 (Thu, 30 Oct 2025) EndedAt: 2025-10-30 15:33:01 -0400 (Thu, 30 Oct 2025) EllapsedTime: 30.3 seconds RetCode: 0 Status: OK