Package: scFeatures Version: 1.10.0 Command: rm -rf scFeatures.buildbin-libdir && mkdir scFeatures.buildbin-libdir && /Users/biocbuild/BBS/utils/build-universal.sh scFeatures_1.10.0.tar.gz /Library/Frameworks/R.framework/Resources/bin/R scFeatures.buildbin-libdir StartedAt: 2025-10-31 23:22:36 -0400 (Fri, 31 Oct 2025) EndedAt: 2025-10-31 23:23:11 -0400 (Fri, 31 Oct 2025) EllapsedTime: 35.6 seconds RetCode: 0 Status: OK PackageFile: scFeatures_1.10.0.tgz PackageFileSize: 3.068 MiB