Package: scDotPlot Version: 1.4.0 Command: /Library/Frameworks/R.framework/Resources/bin/R CMD INSTALL scDotPlot StartedAt: 2025-11-03 15:53:08 -0500 (Mon, 03 Nov 2025) EndedAt: 2025-11-03 15:54:04 -0500 (Mon, 03 Nov 2025) EllapsedTime: 56.5 seconds RetCode: 0 Status: OK