Package: scDotPlot Version: 1.4.0 Command: /Library/Frameworks/R.framework/Resources/bin/R CMD build --keep-empty-dirs --no-resave-data scDotPlot StartedAt: 2025-11-03 18:38:03 -0500 (Mon, 03 Nov 2025) EndedAt: 2025-11-03 18:40:12 -0500 (Mon, 03 Nov 2025) EllapsedTime: 129.1 seconds RetCode: 0 Status: OK PackageFile: scDotPlot_1.4.0.tar.gz PackageFileSize: 1.971 MiB