Package: scDotPlot Version: 1.3.1 Command: /Library/Frameworks/R.framework/Resources/bin/R CMD INSTALL scDotPlot StartedAt: 2025-10-26 15:29:34 -0400 (Sun, 26 Oct 2025) EndedAt: 2025-10-26 15:29:51 -0400 (Sun, 26 Oct 2025) EllapsedTime: 16.5 seconds RetCode: 0 Status: OK