Package: scDotPlot Version: 1.3.1 Command: /Library/Frameworks/R.framework/Resources/bin/R CMD build --keep-empty-dirs --no-resave-data scDotPlot StartedAt: 2025-10-26 17:52:05 -0400 (Sun, 26 Oct 2025) EndedAt: 2025-10-26 17:52:37 -0400 (Sun, 26 Oct 2025) EllapsedTime: 32.4 seconds RetCode: 0 Status: OK PackageFile: scDotPlot_1.3.1.tar.gz PackageFileSize: 1.972 MiB