Package: scDotPlot Version: 1.4.0 Command: /Library/Frameworks/R.framework/Resources/bin/R CMD INSTALL scDotPlot StartedAt: 2025-11-20 19:02:25 -0500 (Thu, 20 Nov 2025) EndedAt: 2025-11-20 19:03:12 -0500 (Thu, 20 Nov 2025) EllapsedTime: 46.2 seconds RetCode: 0 Status: OK