Package: scDotPlot Version: 1.4.0 Command: /Library/Frameworks/R.framework/Resources/bin/R CMD build --keep-empty-dirs --no-resave-data scDotPlot StartedAt: 2025-11-21 09:23:47 -0500 (Fri, 21 Nov 2025) EndedAt: 2025-11-21 09:25:37 -0500 (Fri, 21 Nov 2025) EllapsedTime: 109.8 seconds RetCode: 0 Status: OK PackageFile: scDotPlot_1.4.0.tar.gz PackageFileSize: 1.972 MiB