Package: scDotPlot Version: 1.4.0 Command: rm -rf scDotPlot.buildbin-libdir && mkdir scDotPlot.buildbin-libdir && /Users/biocbuild/BBS/utils/build-universal.sh scDotPlot_1.4.0.tar.gz /Library/Frameworks/R.framework/Resources/bin/R scDotPlot.buildbin-libdir StartedAt: 2025-11-18 16:21:11 -0500 (Tue, 18 Nov 2025) EndedAt: 2025-11-18 16:21:32 -0500 (Tue, 18 Nov 2025) EllapsedTime: 21.3 seconds RetCode: 0 Status: OK PackageFile: scDotPlot_1.4.0.tgz PackageFileSize: 2.003 MiB