Package: scDesign3 Version: 1.8.0 Command: /Library/Frameworks/R.framework/Resources/bin/R CMD INSTALL scDesign3 StartedAt: 2025-11-03 15:39:05 -0500 (Mon, 03 Nov 2025) EndedAt: 2025-11-03 15:39:18 -0500 (Mon, 03 Nov 2025) EllapsedTime: 12.8 seconds RetCode: 0 Status: OK