Package: scDesign3 Version: 1.8.0 Command: /Library/Frameworks/R.framework/Resources/bin/R CMD build --keep-empty-dirs --no-resave-data scDesign3 StartedAt: 2025-11-03 18:38:01 -0500 (Mon, 03 Nov 2025) EndedAt: 2025-11-03 18:39:19 -0500 (Mon, 03 Nov 2025) EllapsedTime: 78.5 seconds RetCode: 0 Status: OK PackageFile: scDesign3_1.8.0.tar.gz PackageFileSize: 1.136 MiB