Package: scDesign3 Version: 1.8.0 Command: /Library/Frameworks/R.framework/Resources/bin/R CMD INSTALL scDesign3 StartedAt: 2025-11-17 17:59:53 -0500 (Mon, 17 Nov 2025) EndedAt: 2025-11-17 17:59:57 -0500 (Mon, 17 Nov 2025) EllapsedTime: 3.5 seconds RetCode: 0 Status: OK