Package: scDesign3 Version: 1.8.0 Command: /Library/Frameworks/R.framework/Resources/bin/R CMD build --keep-empty-dirs --no-resave-data scDesign3 StartedAt: 2025-11-18 00:35:44 -0500 (Tue, 18 Nov 2025) EndedAt: 2025-11-18 00:36:10 -0500 (Tue, 18 Nov 2025) EllapsedTime: 25.3 seconds RetCode: 0 Status: OK PackageFile: scDesign3_1.8.0.tar.gz PackageFileSize: 1.104 MiB