Package: scDesign3 Version: 1.8.0 Command: rm -rf scDesign3.buildbin-libdir && mkdir scDesign3.buildbin-libdir && /Users/biocbuild/BBS/utils/build-universal.sh scDesign3_1.8.0.tar.gz /Library/Frameworks/R.framework/Resources/bin/R scDesign3.buildbin-libdir StartedAt: 2025-11-18 16:21:05 -0500 (Tue, 18 Nov 2025) EndedAt: 2025-11-18 16:21:11 -0500 (Tue, 18 Nov 2025) EllapsedTime: 6.1 seconds RetCode: 0 Status: OK PackageFile: scDesign3_1.8.0.tgz PackageFileSize: 1.247 MiB